Workbook

Sheet Index of Accounts and Lines 
A1: Operational Accounts
A2: 5 | B2: Administrative
A3: =A2+10 -> 15 | B3: May Conference
A4: =A3+10 -> 25 | B4: Long Island Conference
A5: =A4+10 -> 35 | B5: Western Conference
A6: =A5+10 -> 45 | B6: Regional Meetings and Classes
A7: =A6+10 -> 55 | B7: Prior Year
A8: =A7+10 -> 65 | B8: Miscellaneous Income
A9: Income Line Items
A10: 101 | B10: Dues
A11: 102 | B11: Interest
A12: 103 | B12: Miscellaneous
A13: 104 | B13: Vendors
A14: 105 | B14: Attendees
A15: 106 | B15: Scholarship Income/Registrations
A16: 107 | B16: Event Sponsor Income
A17: 108 | B17: General
A19: Expense Lines
A20: 201 | B20: Hotel Invoice
A21: 202 | B21: Travel Board members
A22: 203 | B22: Speakers Fees
A23: 204 | B23: Equipment
A24: 205 | B24: Postage
A25: 206 | B25: Supplies
A26: 207 | B26: Giveaways/Raffle Items/Prizes
A27: 208 | B27: 2nd Evening Event
A28: 209 | B28: Miscellaneous Expenses
A30: 210 | B30: Gifts
A31: 211 | B31: Insurance
A32: 212 | B32: Bank Charges and Fees
... A43: 223 | B43: General

Sheet Original Budget List
A1: Original Sequence | B1: Account | C1: Account Description | D1: Line | E1: Line Description | F1: 2015 Proposed
A2: 1 | B2: 5 | C2: Administrative | D2: 101 | E2: Dues | F2: 25000
A3: =A2+1 -> 2 | B3: 5 | C3: Administrative | D3: 102 | E3: Interest | F3: 100
A4: =A3+1 -> 3 | B4: 5 | C4: Administrative | D4: 103 | E4: Miscellaneous | F4: 0
A5: =A4+1 -> 4 | B5: 15 | C5: May Conference | D5: 104 | E5: Vendors | F5: 52500
A6: =A5+1 -> 5 | B6: 15 | C6: May Conference | D6: 105 | E6: Attendees | F6: 28000
A7: =A6+1 -> 6 | B7: 15 | C7: May Conference | D7: 106 | E7: Scholarship Income/Registrations | F7: 4000
A8: =A7+1 -> 7 | B8: 15 | C8: May Conference | D8: 107 | E8: Event Sponsor Income | F8: 0
A9: =A8+1 -> 8 | B9: 25 | C9: Long Island Conference | D9: 104 | E9: Vendors | F9: 54500
A10: =A9+1 -> 9 | B10: 25 | C10: Long Island Conference | D10: 105 | E10: Attendees | F10: 16000
A11: =A10+1 -> 10 | B11: 25 | C11: Long Island Conference | D11: 106 | E11: Scholarship Income/Registrations | F11: 2000
A12: =A11+1 -> 11 | B12: 25 | C12: Long Island Conference | D12: 107 | E12: Event Sponsor Income | F12: 0
A13: =A12+1 -> 12 | B13: 35 | C13: Western Conference | D13: 104 | E13: Vendors | F13: 33500
A14: =A13+1 -> 13 | B14: 35 | C14: Western Conference | D14: 105 | E14: Attendees | F14: 3000
... A31: =A30+1 -> 30 | B31: 5 | C31: Administrative | D31: 213 | E31: Dues/Subscriptions (other than NIGP) | F31: 0
A32: =A31+1 -> 31 | B32: 5 | C32: Administrative | D32: 214 | E32: NIGP | F32: ='Breakdown of Blue Boxes '!B7 -> 13730
A33: =A32+1 -> 32 | B33: 5 | C33: Administrative | D33: 215 | E33: Advertising | F33: 360
A34: =A33+1 -> 33 | B34: 5 | C34: Administrative | D34: 217 | E34: Board Meetings | F34: 1200
A35: =A34+1 -> 34 | B35: 5 | C35: Administrative | D35: 220 | E35: Scholarships | F35: 20000
A36: =A35+1 -> 35 | B36: 5 | C36: Administrative | D36: 221 | E36: Retreat | F36: 0
A37: =A36+1 -> 36 | B37: 5 | C37: Administrative | D37: 222 | E37: Professional Fees | F37: ='Breakdown of Blue Boxes '!B18 -> 40110
A38: =A37+1 -> 37 | B38: 15 | C38: May Conference | D38: 201 | E38: Hotel Invoice | F38: 36000
A39: =A38+1 -> 38 | B39: 15 | C39: May Conference | D39: 202 | E39: Travel Board members | F39: 3000
A40: =A39+1 -> 39 | B40: 15 | C40: May Conference | D40: 203 | E40: Speakers Fees | F40: 2000
A41: =A40+1 -> 40 | B41: 15 | C41: May Conference | D41: 204 | E41: Equipment | F41: 200
A42: =A41+1 -> 41 | B42: 15 | C42: May Conference | D42: 205 | E42: Postage | F42: 200
A43: =A42+1 -> 42 | B43: 15 | C43: May Conference | D43: 206 | E43: Supplies | F43: 2000
A44: =A43+1 -> 43 | B44: 15 | C44: May Conference | D44: 207 | E44: Giveaways/Raffle Items/Prizes | F44: 1800
A45: =A44+1 -> 44 | B45: 15 | C45: May Conference | D45: 208 | E45: 2nd Evening Event | F45: 11000
A46: =A45+1 -> 45 | B46: 15 | C46: May Conference | D46: 209 | E46: Miscellaneous Expenses | F46: 100
A47: =A46+1 -> 46 | B47: 25 | C47: Long Island Conference | D47: 201 | E47: Hotel Invoice | F47: 35000
A48: =A47+1 -> 47 | B48: 25 | C48: Long Island Conference | D48: 202 | E48: Travel Board members | F48: 2000
A49: =A48+1 -> 48 | B49: 25 | C49: Long Island Conference | D49: 203 | E49: Speakers Fees | F49: 2000
... A68: =A67+1 -> 67 | B68: 65 | C68: Miscellaneous Expenditures | D68: 223 | E68: General | F68: 0

Sheet Breakdown of Blue Boxes 
A1: NIGP
A2: Dues (510 members @$8) | B2: 4080
A3: NIGP Forum | B3: 6500
A4: NIGP national officer support | B4: 2000
A5: NIGP membership officer | B5: 400
A6: NIGP Leadership Symposium | B6: 750
A7: Total | B7: =SUM(B2:B6) -> 13730
A10: Professional Fees
A11: Tax Preparation and Audit | B11: 1975
A12: Consulting/ Semi Annual Audit | B12: 5000
A13: Taxes Due Filing Fees | B13: 35
A14: Professional Fees - Contract Labor | B14: 24000
A15: Merchant Fees | B15: 4500
A16: Website | B16: 4000
A17: Minutes | B17: 600
A18: Total | B18: =SUM(B11:B17) -> 40110
A20: Hotel May
A21: Board Members hotel rooms
A22: Event Space Rentals
A23: Scholarship rooms
A24: Food and Beverage
A25: Audio Visual
A26: Total
A28: Hotel Long Island
A29: Board Members hotel rooms
A30: Event Space Rentals
A31: Scholarship rooms
A32: Food and Beverage
... A44: Travel for board members - Administrative

Sheet Line by Line rollup 
A1: Account | B1: Account Description | C1: Line | D1: Line Description | E1: 2015 Proposed
A2: 5 | B2: Administrative | C2: 101 | D2: Dues | E2: 25000
D3: DUES TOTAL | E3: =SUM(E2) -> 25000
A5: 5 | B5: Administrative | C5: 102 | D5: Interest | E5: 100
D6: INTEREST TOTAL | E6: =SUM(E5) -> 100
A8: 5 | B8: Administrative | C8: 103 | D8: Miscellaneous | E8: 0
D9: MISCELLANEOUS INCOME TOTAL | E9: =SUM(E8) -> 0
A11: 15 | B11: May Conference | C11: 104 | D11: Vendors | E11: 54000
A12: 25 | B12: Long Island Conference | C12: 104 | D12: Vendors | E12: 55000
A13: 35 | B13: Western Conference | C13: 104 | D13: Vendors | E13: 34050
A14: 45 | B14: Regional Meetings and Classes | C14: 104 | D14: Vendors | E14: 0
D15: VENDORS TOTAL | E15: =SUM(E11:E14) -> 143050
A17: 15 | B17: May Conference | C17: 105 | D17: Attendees | E17: 28000
A18: 25 | B18: Long Island Conference | C18: 105 | D18: Attendees | E18: 16000
A19: 35 | B19: Western Conference | C19: 105 | D19: Attendees | E19: 3000
A20: 45 | B20: Regional Meetings and Classes | C20: 105 | D20: Attendees | E20: 0
D21: ATTENDEES TOTAL | E21: =SUM(E17:E20) -> 47000
A23: 15 | B23: May Conference | C23: 106 | D23: Scholarship Income/Registrations | E23: 5000
A24: 25 | B24: Long Island Conference | C24: 106 | D24: Scholarship Income/Registrations | E24: 2500
A25: 35 | B25: Western Conference | C25: 106 | D25: Scholarship Income/Registrations | E25: 2500
A26: 45 | B26: Regional Meetings and Classes | C26: 106 | D26: Scholarship Income/Registrations | E26: 0
D27: SCHOLARSHIP INCOME TOTAL | E27: =SUM(E23:E26) -> 10000
A29: 15 | B29: May Conference | C29: 107 | D29: Event Sponsor Income | E29: 0
A30: 25 | B30: Long Island Conference | C30: 107 | D30: Event Sponsor Income | E30: 0
A31: 35 | B31: Western Conference | C31: 107 | D31: Event Sponsor Income | E31: 0
A32: 45 | B32: Regional Meetings and Classes | C32: 107 | D32: Event Sponsor Income | E32: 0
D33: EVENT SPONSOR INCOME TOTAL | E33: =SUM(E29:E32) -> 0
A35: 55 | B35: Prior Year | C35: 108 | D35: General | E35: 0
A36: 65 | B36: Miscellaneous Income | C36: 108 | D36: General | E36: 0
D37: GENERAL INCOME TOTAL | E37: =SUM(E35:E36) -> 0
D38: TOTAL INCOME | E38: =SUM(E37,E33,E27,E21,E15,E9,E6,E3) -> 225150
A40: 15 | B40: May Conference | C40: 201 | D40: Hotel Invoice | E40: 36000
A41: 25 | B41: Long Island Conference | C41: 201 | D41: Hotel Invoice | E41: 35000
A42: 35 | B42: Western Conference | C42: 201 | D42: Hotel Invoice | E42: 26250
D43: HOTEL INVOICE TOTAL | E43: =SUM(E40:E42) -> 97250
A45: 5 | B45: Administrative | C45: 202 | D45: Travel Board members | E45: 10000
A46: 15 | B46: May Conference | C46: 202 | D46: Travel Board members | E46: 3000
A47: 25 | B47: Long Island Conference | C47: 202 | D47: Travel Board members | E47: 2000
A48: 35 | B48: Western Conference | C48: 202 | D48: Travel Board members | E48: 2500
D49: TRAVEL BOARD MEMBERS TOTAL | E49: =SUM(E45:E48) -> 17500
...

Sheet Line by Line Summary
A1: ='Line by Line rollup '!D3 -> DUES TOTAL | B1: ='Line by Line rollup '!E3 -> 25000
A2: ='Line by Line rollup '!D6 -> INTEREST TOTAL | B2: ='Line by Line rollup '!E6 -> 100
A3: ='Line by Line rollup '!D9 -> MISCELLANEOUS INCOME TOTAL | B3: ='Line by Line rollup '!E9 -> 0
A4: ='Line by Line rollup '!D15 -> VENDORS TOTAL | B4: ='Line by Line rollup '!E15 -> 143050
A5: ='Line by Line rollup '!D21 -> ATTENDEES TOTAL | B5: ='Line by Line rollup '!E21 -> 47000
A6: ='Line by Line rollup '!D27 -> SCHOLARSHIP INCOME TOTAL | B6: ='Line by Line rollup '!E27 -> 10000
A7: ='Line by Line rollup '!D33 -> EVENT SPONSOR INCOME TOTAL | B7: ='Line by Line rollup '!E33 -> 0
A8: ='Line by Line rollup '!D37 -> GENERAL INCOME TOTAL | B8: ='Line by Line rollup '!E37 -> 0
A9: ='Line by Line rollup '!D38 -> TOTAL INCOME | B9: ='Line by Line rollup '!E38 -> 225150
A11: ='Line by Line rollup '!D43 -> HOTEL INVOICE TOTAL | B11: ='Line by Line rollup '!E43 -> 97250
A12: ='Line by Line rollup '!D49 -> TRAVEL BOARD MEMBERS TOTAL | B12: ='Line by Line rollup '!E49 -> 17500
A13: ='Line by Line rollup '!D54 -> SPEAKERS FEES TOTAL | B13: ='Line by Line rollup '!E54 -> 6000
A14: ='Line by Line rollup '!D60 -> EQUIPMENT TOTAL | B14: ='Line by Line rollup '!E60 -> 1800
A15: ='Line by Line rollup '!D66 -> POSTAGE TOTAL | B15: ='Line by Line rollup '!E66 -> 700
A16: ='Line by Line rollup '!D72 -> SUPPLIES TOTAL | B16: ='Line by Line rollup '!E72 -> 6400
A17: ='Line by Line rollup '!D77 -> GIVEAWAYS TOTAL | B17: ='Line by Line rollup '!E77 -> 4800
A18: ='Line by Line rollup '!D82 -> 2ND EVENING TOTAL | B18: ='Line by Line rollup '!E82 -> 11000
A19: ='Line by Line rollup '!D89 -> MISCELLANEOUS EXPENSES TOTAL | B19: ='Line by Line rollup '!E89 -> 300
A20: ='Line by Line rollup '!D92 -> GIFTS TOTAL | B20: ='Line by Line rollup '!E92 -> 200
A21: ='Line by Line rollup '!D95 -> INSURANCE TOTAL | B21: ='Line by Line rollup '!E95 -> 1700
A22: ='Line by Line rollup '!D98 -> BANK CHARGES TOTAL | B22: ='Line by Line rollup '!E98 -> 300
A23: ='Line by Line rollup '!D101 -> DUES NON NIGP TOTAL | B23: ='Line by Line rollup '!E101 -> 0
A24: ='Line by Line rollup '!D104 -> NIGP TOTAL | B24: ='Line by Line rollup '!E104 -> 13730
A25: ='Line by Line rollup '!D107 -> ADVERTISING TOTAL | B25: ='Line by Line rollup '!E107 -> 360
A26: ='Line by Line rollup '!D110 -> BOARD MEETINGS TOTAL | B26: ='Line by Line rollup '!E110 -> 1200
A27: ='Line by Line rollup '!D113 -> SCHOLARSHIPS TOTAL | B27: ='Line by Line rollup '!E113 -> 20000
A28: ='Line by Line rollup '!D116 -> RETREAT TOTAL | B28: ='Line by Line rollup '!E116 -> 0
A29: ='Line by Line rollup '!D119 -> PROFESSIONAL FEES TOTAL | B29: ='Line by Line rollup '!E119 -> 40110
A30: ='Line by Line rollup '!D124 -> GENERAL EXPENSES TOTAL | B30: ='Line by Line rollup '!E124 -> 1800
A31: ='Line by Line rollup '!D125 -> EXPENSES TOTAL | B31: ='Line by Line rollup '!E125 -> 225150

Sheet Income, Expenses by unit
A1: Account | B1: Account Description | C1: Line | D1: Line Description | E1: 2015 Proposed
A2: 5 | B2: Administrative | C2: 101 | D2: Dues | E2: 25000
A3: 5 | B3: Administrative | C3: 102 | D3: Interest | E3: 100
A4: 5 | B4: Administrative | C4: 103 | D4: Miscellaneous | E4: 0
B5: Total Administrative Income | E5: =SUM(E2:E4) -> 25100
A7: 15 | B7: May Conference | C7: 104 | D7: Vendors | E7: 54000
A8: 15 | B8: May Conference | C8: 105 | D8: Attendees | E8: 28000
A9: 15 | B9: May Conference | C9: 106 | D9: Scholarship Income/Registrations | E9: 5000
A10: 15 | B10: May Conference | C10: 107 | D10: Event Sponsor Income | E10: 0
B11: Total May Conference Income | E11: =SUM(E7:E10) -> 87000
A13: 25 | B13: Long Island Conference | C13: 104 | D13: Vendors | E13: 55000
A14: 25 | B14: Long Island Conference | C14: 105 | D14: Attendees | E14: 16000
A15: 25 | B15: Long Island Conference | C15: 106 | D15: Scholarship Income/Registrations | E15: 2500
A16: 25 | B16: Long Island Conference | C16: 107 | D16: Event Sponsor Income | E16: 0
B17: Total Long Island Conference Income | E17: =SUM(E13:E16) -> 73500
A19: 35 | B19: Western Conference | C19: 104 | D19: Vendors | E19: 34050
A20: 35 | B20: Western Conference | C20: 105 | D20: Attendees | E20: 3000
A21: 35 | B21: Western Conference | C21: 106 | D21: Scholarship Income/Registrations | E21: 2500
A22: 35 | B22: Western Conference | C22: 107 | D22: Event Sponsor Income | E22: 0
B23: Total Western Conference Income | E23: =SUM(E19:E22) -> 39550
A25: 45 | B25: Regional Meetings and Classes | C25: 104 | D25: Vendors | E25: 0
A26: 45 | B26: Regional Meetings and Classes | C26: 105 | D26: Attendees | E26: 0
A27: 45 | B27: Regional Meetings and Classes | C27: 106 | D27: Scholarship Income/Registrations | E27: 0
A28: 45 | B28: Regional Meetings and Classes | C28: 107 | D28: Event Sponsor Income | E28: 0
B29: Total Regional Meetings income | E29: =SUM(E25:E28) -> 0
A31: 55 | B31: Prior Year | C31: 108 | D31: General | E31: 0
B32: Total Prior Year Income | E32: 0
A34: 65 | B34: Miscellaneous Income | C34: 108 | D34: General | E34: 0
B35: Total Miscellaneous Income | E35: 0
B36: TOTAL INCOME | E36: =SUM(E5,E11,E17,E23,E29,E32,E35) -> 225150
A38: 5 | B38: Administrative | C38: 204 | D38: Equipment | E38: 1200
A39: 5 | B39: Administrative | C39: 205 | D39: Postage | E39: 100
A40: 5 | B40: Administrative | C40: 206 | D40: Supplies | E40: 400
A41: 5 | B41: Administrative | C41: 202 | D41: Travel Board members | E41: 10000
A42: 5 | B42: Administrative | C42: 209 | D42: Miscellaneous Expenses | E42: 0
A43: 5 | B43: Administrative | C43: 210 | D43: Gifts | E43: 200
A44: 5 | B44: Administrative | C44: 211 | D44: Insurance | E44: 1700
A45: 5 | B45: Administrative | C45: 212 | D45: Bank Charges and Fees | E45: 300
A46: 5 | B46: Administrative | C46: 213 | D46: Dues/Subscriptions (other than NIGP) | E46: 0
A47: 5 | B47: Administrative | C47: 214 | D47: NIGP | E47: ='Breakdown of Blue Boxes '!B7 -> 13730
...

Sheet Income, Expenses summary
A1: ='Income, Expenses by unit'!B5 -> Total Administrative Income | B1: ='Income, Expenses by unit'!E5 -> 25100
A2: ='Income, Expenses by unit'!B11 -> Total May Conference Income | B2: ='Income, Expenses by unit'!E11 -> 87000
A3: ='Income, Expenses by unit'!B17 -> Total Long Island Conference Income | B3: ='Income, Expenses by unit'!E17 -> 73500
A4: ='Income, Expenses by unit'!B23 -> Total Western Conference Income | B4: ='Income, Expenses by unit'!E23 -> 39550
A5: ='Income, Expenses by unit'!B29 -> Total Regional Meetings income | B5: ='Income, Expenses by unit'!E29 -> 0
A6: ='Income, Expenses by unit'!B32 -> Total Prior Year Income | B6: ='Income, Expenses by unit'!E32 -> 0
A7: ='Income, Expenses by unit'!B35 -> Total Miscellaneous Income | B7: ='Income, Expenses by unit'!E35 -> 0
A9: ='Income, Expenses by unit'!B36 -> TOTAL INCOME | B9: ='Income, Expenses by unit'!E36 -> 225150
A11: ='Income, Expenses by unit'!B53 -> Total Administrative Expenses | B11: ='Income, Expenses by unit'!E53 -> 89300
A12: ='Income, Expenses by unit'!B64 -> Total May Conference Expenses | B12: ='Income, Expenses by unit'!E64 -> 56300
A13: ='Income, Expenses by unit'!B75 -> Total Long Island Expenses | B13: ='Income, Expenses by unit'!E75 -> 43000
A14: ='Income, Expenses by unit'!B86 -> Total Western Conference | B14: ='Income, Expenses by unit'!E86 -> 34750
A15: ='Income, Expenses by unit'!B90 -> Total Regional Meeting Expenses | B15: ='Income, Expenses by unit'!E90 -> 1800
A16: ='Income, Expenses by unit'!B93 -> Total Prior Year Expenses | B16: ='Income, Expenses by unit'!E93 -> 0
A17: ='Income, Expenses by unit'!B96 -> Total Miscellaneous Expenses | B17: ='Income, Expenses by unit'!E96 -> 0
A19: ='Income, Expenses by unit'!B97 -> TOTAL EXPENSES | B19: ='Income, Expenses by unit'!E97 -> 225150

Sheet Unit I-E side by side 
A1: Account | B1: Account Description | C1: Line | D1: Line Description | E1: 2015 Proposed | G1: Account | H1: Account Description | I1: Line | J1: Line Description | K1: 2015 Proposed
A2: 5 | B2: Administrative | C2: 101 | D2: Dues | E2: 25000 | G2: 5 | H2: Administrative | I2: 204 | J2: Equipment | K2: 1200
A3: 5 | B3: Administrative | C3: 102 | D3: Interest | E3: 100 | G3: 5 | H3: Administrative | I3: 205 | J3: Postage | K3: 100
A4: 5 | B4: Administrative | C4: 103 | D4: Miscellaneous | E4: 0 | G4: 5 | H4: Administrative | I4: 206 | J4: Supplies | K4: 400
B5: Total Administrative Income | E5: =SUM(E2:E4) -> 25100 | G5: 5 | H5: Administrative | I5: 202 | J5: Travel Board members | K5: 10000
G6: 5 | H6: Administrative | I6: 209 | J6: Miscellaneous Expenses | K6: 0
G7: 5 | H7: Administrative | I7: 210 | J7: Gifts | K7: 200
G8: 5 | H8: Administrative | I8: 211 | J8: Insurance | K8: 1700
G9: 5 | H9: Administrative | I9: 212 | J9: Bank Charges and Fees | K9: 300
G10: 5 | H10: Administrative | I10: 213 | J10: Dues/Subscriptions (other than NIGP) | K10: 0
G11: 5 | H11: Administrative | I11: 214 | J11: NIGP | K11: ='Breakdown of Blue Boxes '!B7 -> 13730
G12: 5 | H12: Administrative | I12: 215 | J12: Advertising | K12: 360
G13: 5 | H13: Administrative | I13: 217 | J13: Board Meetings | K13: 1200
G14: 5 | H14: Administrative | I14: 220 | J14: Scholarships | K14: 20000
G15: 5 | H15: Administrative | I15: 221 | J15: Retreat | K15: 0
G16: 5 | H16: Administrative | I16: 222 | J16: Professional Fees | K16: ='Breakdown of Blue Boxes '!B18 -> 40110
H17: Total Administrative Expenses | K17: =SUM(K2:K16) -> 89300
A19: 15 | B19: May Conference | C19: 104 | D19: Vendors | E19: 54000 | G19: 15 | H19: May Conference | I19: 201 | J19: Hotel Invoice | K19: 36000
A20: 15 | B20: May Conference | C20: 105 | D20: Attendees | E20: 28000 | G20: 15 | H20: May Conference | I20: 202 | J20: Travel Board members | K20: 3000
A21: 15 | B21: May Conference | C21: 106 | D21: Scholarship Income/Registrations | E21: 5000 | G21: 15 | H21: May Conference | I21: 203 | J21: Speakers Fees | K21: 2000
A22: 15 | B22: May Conference | C22: 107 | D22: Event Sponsor Income | E22: 0 | G22: 15 | H22: May Conference | I22: 204 | J22: Equipment | K22: 200
B23: Total May Conference Income | E23: =SUM(E19:E22) -> 87000 | G23: 15 | H23: May Conference | I23: 205 | J23: Postage | K23: 200
G24: 15 | H24: May Conference | I24: 206 | J24: Supplies | K24: 2000
G25: 15 | H25: May Conference | I25: 207 | J25: Giveaways/Raffle Items/Prizes | K25: 1800
G26: 15 | H26: May Conference | I26: 208 | J26: 2nd Evening Event | K26: 11000
G27: 15 | H27: May Conference | I27: 209 | J27: Miscellaneous Expenses | K27: 100
H28: Total May Conference Expenses | K28: =SUM(K19:K27) -> 56300
A30: 25 | B30: Long Island Conference | C30: 104 | D30: Vendors | E30: 55000 | G30: 25 | H30: Long Island Conference | I30: 201 | J30: Hotel Invoice | K30: 35000
A31: 25 | B31: Long Island Conference | C31: 105 | D31: Attendees | E31: 16000 | G31: 25 | H31: Long Island Conference | I31: 202 | J31: Travel Board members | K31: 2000
A32: 25 | B32: Long Island Conference | C32: 106 | D32: Scholarship Income/Registrations | E32: 2500 | G32: 25 | H32: Long Island Conference | I32: 203 | J32: Speakers Fees | K32: 2000
A33: 25 | B33: Long Island Conference | C33: 107 | D33: Event Sponsor Income | E33: 0 | G33: 25 | H33: Long Island Conference | I33: 204 | J33: Equipment | K33: 200
B34: Total Long Island Conference Income | E34: =SUM(E30:E33) -> 73500 | G34: 25 | H34: Long Island Conference | I34: 205 | J34: Postage | K34: 200
G35: 25 | H35: Long Island Conference | I35: 206 | J35: Supplies | K35: 2000
G36: 25 | H36: Long Island Conference | I36: 207 | J36: Giveaways/Raffle Items/Prizes | K36: 1500
G37: 25 | H37: Long Island Conference | I37: 208 | J37: 2nd Evening Event | K37: 0
G38: 25 | H38: Long Island Conference | I38: 209 | J38: Miscellaneous Expenses | K38: 100
H39: Total Long Island Expenses | K39: =SUM(K30:K38) -> 43000
A41: 35 | B41: Western Conference | C41: 104 | D41: Vendors | E41: 34050 | G41: 35 | H41: Western Conference | I41: 201 | J41: Hotel Invoice | K41: 26250
A42: 35 | B42: Western Conference | C42: 105 | D42: Attendees | E42: 3000 | G42: 35 | H42: Western Conference | I42: 202 | J42: Travel Board members | K42: 2500
A43: 35 | B43: Western Conference | C43: 106 | D43: Scholarship Income/Registrations | E43: 2500 | G43: 35 | H43: Western Conference | I43: 203 | J43: Speakers Fees | K43: 2000
...
